BEGIN:VCALENDAR
VERSION:2.0
PRODID:-//Cyber Security Association - ECPv6.15.20//NONSGML v1.0//EN
CALSCALE:GREGORIAN
METHOD:PUBLISH
X-ORIGINAL-URL:https://cybersecurityassociation.co
X-WR-CALDESC:Events for Cyber Security Association
REFRESH-INTERVAL;VALUE=DURATION:PT1H
X-Robots-Tag:noindex
X-PUBLISHED-TTL:PT1H
BEGIN:VTIMEZONE
TZID:UTC
BEGIN:STANDARD
TZOFFSETFROM:+0000
TZOFFSETTO:+0000
TZNAME:UTC
DTSTART:20200101T000000
END:STANDARD
END:VTIMEZONE
BEGIN:VEVENT
DTSTART;TZID=UTC:20210706T085500
DTEND;TZID=UTC:20210706T170000
DTSTAMP:20260419T133847
CREATED:20210702T053620Z
LAST-MODIFIED:20210702T053620Z
UID:222413-1625561700-1625590800@cybersecurityassociation.co
SUMMARY:UKCSA’s One Day Summit – 6 July 2021 – Free to Attend
DESCRIPTION:The UK Cyber Security Association is proud to present its first one-day summit event on Tuesday 6 July 2021. The theme for the summit is “stronger and better together”\, and “The Scourge of Ransomware”\, and will have a focus on combatting the growing cyber security threat from a global perspective. \nEvent Running Order \n8.55am\nwelcome address by Lisa Ventura\, Co-Director and Founder\, UK Cyber Security Association \n9.05am\nTalk: title to be announced\nSimon Newman\, Head of Cyber and Business Services\, Police Digital Security Centre (PDSC) \n9.45am\nTalk: Why Ransomware Attacks Have Soared and how to Avoid Being the Next Victim\nMitch Mellard\, Threat Intelligence Analyst and Chris Sedgwick\, Director of Security Operations\, Talion. \n10.30am\nTalk: Cyber Security 101 for Small Businesses and SMEs\nVictoria Beale\, Founder\, Business Live Global. \n11.15am\n15-minute break. \n11.30am\nPanel Discussion: Stronger Together – How Can We Work Together Globally To Combat The Growing Cyber Threat?\nModerator\nLisa Ventura\, Co-Director & Founder\, UK Cyber Security Association\nPanellists\nChris Windley\, Co-Director & Founder\, UK Cyber Security Association\nJames Castle\, Founder\, Global Cyber Security Alliance\nProfessor Lisa Short\, P&L Digital\nBishakha Jain\, IBM India \n12.15pm\nNetworking session over lunch for event participants to meet\, greet and network. \n1.15pm\nTalk: title to be announced\nSteve Vine\, Infrastructure and Operations Manager at Moneypenny \n2.00pm\nTalk: Providing Security for Global Fast-Moving Consumer Goods Companies\nDr Alex Tarter\, Chief Cyber Consultant and CTO at Thales Cyber & Consulting \n2.45pm\nPanel Discussion: Mind the (Cyber) Skills Gap: Using Your Transferrable Skills to Transition Into a Career in Cyber Security\nModerator\nLisa Ventura\, Co-Director & Founder\, UK Cyber Security Association\nPanellists\nNatasha Hurley and Laura Wellstead\, Co-Founders\, Cyberxperts\nJonathan Slater\, Managing Director\, Capslock\nDianna Morikawa\, Global Partner Manager\, Intrusion Inc \n3.30pm\n15-minute break. \n3.45pm\nTalk: Taken with a Vengeance\nThom Langford\, CISO\, SentinelOne \n4.15pm\nKeynote Talk: title to be announced\nDamon Rands\, CEO\, Wolfberry CS \n5.00pm\nevent closes. \nRegister for the event for FREE here – https://hopin.com/events/ukcsa-one-day-summit-event.
URL:https://cybersecurityassociation.co/event/ukcsas-one-day-summit-6-july-2021-free-to-attend/
ATTACH;FMTTYPE=image/png:https://cybersecurityassociation.co/wp-content/uploads/2021/07/Generic-Graphic-1-1-1280x640-1.png
END:VEVENT
BEGIN:VEVENT
DTSTART;VALUE=DATE:20210616
DTEND;VALUE=DATE:20210617
DTSTAMP:20260419T133847
CREATED:20210702T055850Z
LAST-MODIFIED:20210702T060127Z
UID:222416-1623801600-1623887999@cybersecurityassociation.co
SUMMARY:Cyber Security Festival brought to you by Computing Magazine 2021
DESCRIPTION:Cyber Security Festival 2021 \nWhilst the volume and severity of cyber attacks seems constantly to rise\, there are new tools and strategies for organisations to deploy in their defence. Most find that a combination of regular training\, a spread of the right tools\, and visibility of logs and monitoring dashboards reduces risk to acceptable levels. But which tools are the best fit for your organisation? How can you make training relevant and memorable\, and should you link it to KPIs? How do you ensure you’re seeing the right alerts and avoid information overload? \nHosted by Computing \, the CyberSecurity Festival will provide a combination of presentations\, panel sessions\, fireside chats\, workshops and networking to help you answer all of these questions and more. Attendees will hear from the industry’s top experts\, some of the biggest and most successful brands\, and have their opportunity to put their questions to them directly. \n#CyberSecurityFestival \nTo register please visit https://www.cybersecurityfestival.com/cybersecurity2021/en/page/home?&view-type~0=compact
URL:https://cybersecurityassociation.co/event/cyber-security-festival-brought-to-you-by-computing-magazine-2021/
ATTACH;FMTTYPE=image/png:https://cybersecurityassociation.co/wp-content/uploads/2021/07/Screenshot-2021-05-12-140412.png
END:VEVENT
BEGIN:VEVENT
DTSTART;TZID=UTC:20210512T130000
DTEND;TZID=UTC:20210513T173000
DTSTAMP:20260419T133847
CREATED:20210702T060535Z
LAST-MODIFIED:20210702T061149Z
UID:222419-1620824400-1620927000@cybersecurityassociation.co
SUMMARY:CyberCon London: 12 & 13 May 2021
DESCRIPTION:Date: 12 & 13 May 2021\nTime: 1pm – 5.30pm (UK time)\nLocation: Online \nLed by some of the world’s leading experts in the field of cyber security and financial fraud investigations\, CyberCon London 2021 is an unmissable opportunity to ensure your business and security systems are up to the challenge of an always evolving cyber threat. \nUK business leaders and C-level executives across industries will have a first-hand access to some of the top international experts who will share their insight and expertise in developing effective threat management strategies and solutions to new and unprecedented online/cyber threats that have emerged in the year under a lockdown. through interactive Q&A sessions and insightful panel discussions. \nDelivered through top level keynote addresses\, insightful and interactive panel discussions and live Q&A sessions\, CyberCon London 2021 will arm delegates with a comprehensive toolkit to create a cyber security strategy for their organisation and provide deep insights into the latest strategies in dealing with cyber threat and guard against the uncertain threat landscape. \nConfirmed speakers: \n\nLisa Ventura\, CEO & Founder\, UK Cyber Security Association\nDan Patefield\, Head of Programme\, Cyber & National Security\, techUK\nSteve Hunt\, Senior Analyst\, Cybersecurity\, Aite Group\nPhilip Ingram OBE\, former British Army intelligence officer\n\nWho should attend: \n\nChief Technology Officers\nChief Information Officers\nChief Information Security Officers\nIT directors\nManaging Directors\nRisk & Compliance Officers\n\nView agenda | Reserve your Place \nTo find out more go to www.cyberconlondon.co.uk
URL:https://cybersecurityassociation.co/event/cybercon-london-12-13-may-2021/
ATTACH;FMTTYPE=image/jpeg:https://cybersecurityassociation.co/wp-content/uploads/2021/07/Screenshot-2021-03-02-160549-1.jpg
END:VEVENT
BEGIN:VEVENT
DTSTART;VALUE=DATE:20210309
DTEND;VALUE=DATE:20210311
DTSTAMP:20260419T133847
CREATED:20210702T061433Z
LAST-MODIFIED:20210702T061500Z
UID:222422-1615248000-1615420799@cybersecurityassociation.co
SUMMARY:Cyber Intelligence Asia 2021\, Jakarta\, Indonesia
DESCRIPTION:Cyber Intelligence Asia\nJakarta\, Indonesia\n9-11 March 2021 \nhttps://intelligence-sec.com/events/cyber-intelligence-asia-2021-3/ \nIndonesia is currently known as the world’s most vulnerable country that suffers cyber-attacks to their critical infrastructures. The government is working to change the current circumstances and build a stronger cyber defence against the nation’s infrastructures. \nWe are pleased to bring our annual Cyber Intelligence Asia conference and exhibition to Indonesia for the first time. Our international show will bring together the regions leading cyber security experts to discuss national cyber security strategies\, policies\, roadmaps as well as the current cybercrimes being faced nationally and across the region. \nCyber Intelligence Asia 2021 is officially supported by the Indonesian Computer Emergency Response Team (ID-CERT) who will provide assistance with key topics that are of great interest to the local government and other South-East Asian countries. \nDuring the 2-day conference you will hear information regarding national cyber security capabilities\, cyber training and building awareness\, cyber threat intelligence\, combating cybercrimes nationally and across South-East Asia\, cyber laws\, cyber security strategies and police and international cooperation. \nTo be part of our 9th annual Cyber Intelligence Asia conference and exhibition either as a sponsor\, exhibitor\, speaker or delegate please contact us on events@intelligence-sec.com or +44 1582 346 706..
URL:https://cybersecurityassociation.co/event/cyber-intelligence-asia-2021-jakarta-indonesia/
ATTACH;FMTTYPE=image/jpeg:https://cybersecurityassociation.co/wp-content/uploads/2021/07/Cyber-Image-4.jpg
END:VEVENT
END:VCALENDAR